BEGIN:VCALENDAR
VERSION:2.0
PRODID:-//Generosity Dallas - ECPv6.15.1.1//NONSGML v1.0//EN
CALSCALE:GREGORIAN
METHOD:PUBLISH
X-ORIGINAL-URL:https://www.generositydallas.com
X-WR-CALDESC:Events for Generosity Dallas
REFRESH-INTERVAL;VALUE=DURATION:PT1H
X-Robots-Tag:noindex
X-PUBLISHED-TTL:PT1H
BEGIN:VTIMEZONE
TZID:America/Chicago
BEGIN:DAYLIGHT
TZOFFSETFROM:-0600
TZOFFSETTO:-0500
TZNAME:CDT
DTSTART:20230312T080000
END:DAYLIGHT
BEGIN:STANDARD
TZOFFSETFROM:-0500
TZOFFSETTO:-0600
TZNAME:CST
DTSTART:20231105T070000
END:STANDARD
END:VTIMEZONE
BEGIN:VEVENT
DTSTART;TZID=America/Chicago:20231026T100000
DTEND;TZID=America/Chicago:20231026T110000
DTSTAMP:20260423T141351
CREATED:20230330T130144Z
LAST-MODIFIED:20230330T132503Z
UID:2626-1698314400-1698318000@www.generositydallas.com
SUMMARY:Inside Major Gifts: NCF Webinar for Ministries
DESCRIPTION:Join the National Christian Foundation for this series hosted by Connie Hougland\, NCF’s VP of Charity Experiences and Offerings. Each webinar is 60 minutes long and includes Q&A opportunities. \nCharitable gift annuities: The gift that gives back\nOctober 26\, 2023\, 10 am CT \nDid you know there’s a creative giving solution for donors who have a heart to give but desire a source of ongoing income? Our team at the National Christian Foundation (NCF) serves more than 200 charities with CGA administration services\, and we’re ready to equip you to offer this unique solution to your donors too. \nA charitable gift annuity (CGA) is a simple arrangement that involves a charitable gift and an annuity. Interest in CGAs is growing as payout rates increased in 2023 and the SECURE 2.0 Act has opened the door to a unique opportunity for qualified charitable distributions from your IRA to fund a CGA. \nIn this webinar\, George Duffin\, NCF’s director of charitable gift annuity services\, will unpack the ins and outs of CGAs and how you can begin offering them to your donors today. \nLearn More & Register
URL:https://www.generositydallas.com/event/inside-major-gifts-ncf-webinar-for-ministries/
LOCATION:Zoom
CATEGORIES:For Ministries
END:VEVENT
END:VCALENDAR